BEGIN:VCALENDAR
VERSION:2.0
PRODID:-//AAPS - ECPv6.10.1.1//NONSGML v1.0//EN
CALSCALE:GREGORIAN
METHOD:PUBLISH
X-ORIGINAL-URL:https://aapswebsite.schools.consulting
X-WR-CALDESC:Events for AAPS
REFRESH-INTERVAL;VALUE=DURATION:PT1H
X-Robots-Tag:noindex
X-PUBLISHED-TTL:PT1H
BEGIN:VTIMEZONE
TZID:America/Toronto
BEGIN:DAYLIGHT
TZOFFSETFROM:-0500
TZOFFSETTO:-0400
TZNAME:EDT
DTSTART:20220313T070000
END:DAYLIGHT
BEGIN:STANDARD
TZOFFSETFROM:-0400
TZOFFSETTO:-0500
TZNAME:EST
DTSTART:20221106T060000
END:STANDARD
END:VTIMEZONE
BEGIN:VEVENT
DTSTART;TZID=America/Toronto:20220112T080000
DTEND;TZID=America/Toronto:20220112T170000
DTSTAMP:20260424T191528
CREATED:20220113T041646Z
LAST-MODIFIED:20230216T221446Z
UID:20141-1641974400-1642006800@aapswebsite.schools.consulting
SUMMARY:Cannabis Analytical Testing Workshop
DESCRIPTION:Cannabis Analytical Testing Workshop\n\n \n\nDates Available\n15\, 16\, 22\, 23\, 29 & 30 April 2023 \nTime\n9:30 a.m – 3:30 p.m. \nCost\nCAD $2000.00 + HST \nLocation\nAAPS Training Center\n885 Sheppard Ave W\, Toronto\, Ontario\, M3H 2T4\nTel: 416-502-2277 \n\nAbstract\nThis course focuses on the quality control and analytical testing requirements for Cannabis products. High Performance Liquid Chromatography (HPLC) is an analytical technique for separating organic compounds in order to analyze their properties. Modern HPLC are applied in quality control (QC) and research and development (R&D) to separate\, identify\, purify and quantify compounds. In the cannabis industry\, HPLC is the primary instrument to determine %THC\, %THCA\, %CBD and %CBDA. \nAAPS was granted a R&D licence from Health Canada in 2020 allowing students to work directly with cannabis and helps prepare students by providing hands-on practical skills necessary to perform HPLC analysis. \nThis course focuses on the quality control and analytical testing requirements for Cannabis products. Various laboratory techniques such as wet chemistry\, HPLC and microbiology are taught and practiced in the laboratory. Concepts such as quality control\, certificate of analysis (CofA)\, product specification\, and good laboratory practices and reporting requirements are discussed in depth. \nCourse Outline\n\n	Wet chemistry\n	HPLC\n	Microbiology\n	Good Laboratory Practices\n	Quality Control\n	Certificate of Analysis (CofA)\n	Product Specification\n	Reporting Requirements\n\nUpon completion of the course\, students will have developed an understanding of the fundamental concepts and techniques related to working in a laboratory environment. \nNote: Course outline is subject to change without notice. Please check back regularly for updates. \nWho Should Attend\nThis course is intended for those who are interested in operating HPLC; as a technician\, analyst or managers looking to work or setup an analytical laboratory. No previous laboratory experience is required for this workshop. \n Certificate of Attendance and Course Material\n\n	All participants will receive a certificate of attendance upon completion of the course.\n	The participants will be receiving specially prepared course manual.\n\nRegistration Fee Includes\nPresentation materials\, laboratory equipment\, lab coats\, safety glasses\, chemical reagents and free parking.
URL:https://aapswebsite.schools.consulting/event/cannabis-analytical-testing-workshop
CATEGORIES:Onsite Training
ATTACH;FMTTYPE=image/png:https://aapswebsite.schools.consulting/wp-content/uploads/Newsletter-Banners_AAPS_Cannabis-Analytical-Testing-1920-×-560-px-1.png
END:VEVENT
END:VCALENDAR